BEGIN:VCALENDAR
VERSION:2.0
PRODID:-//TÜV academy - ECPv5.14.2.1//NONSGML v1.0//EN
CALSCALE:GREGORIAN
METHOD:PUBLISH
X-WR-CALNAME:TÜV academy
X-ORIGINAL-URL:https://tuvaustria.academy
X-WR-CALDESC:Events for TÜV academy
REFRESH-INTERVAL;VALUE=DURATION:PT1H
X-Robots-Tag:noindex
X-PUBLISHED-TTL:PT1H
BEGIN:VTIMEZONE
TZID:Europe/Moscow
BEGIN:STANDARD
TZOFFSETFROM:+0300
TZOFFSETTO:+0300
TZNAME:MSK
DTSTART:20260101T000000
END:STANDARD
END:VTIMEZONE
BEGIN:VEVENT
DTSTART;TZID=Europe/Moscow:20260622T093000
DTEND;TZID=Europe/Moscow:20260623T163000
DTSTAMP:20260423T132550
CREATED:20250924T124658Z
LAST-MODIFIED:20260407T072837Z
UID:10682-1782120600-1782232200@tuvaustria.academy
SUMMARY:ΕΣΩΤΕΡΙΚΟΙ ΕΠΙΘΕΩΡΗΤΕΣ ΣΥΣΤΗΜΑΤΩΝ ΔΙΑΧΕΙΡΙΣΗΣ ΠΟΙΟΤΗΤΑΣ | ISO 9001:2015
DESCRIPTION:ΕΣΩΤΕΡΙΚΟΙ ΕΠΙΘΕΩΡΗΤΕΣ ΣΥΣΤΗΜΑΤΩΝ ΔΙΑΧΕΙΡΙΣΗΣ ΠΟΙΟΤΗΤΑΣ | ISO 9001:2015 \nΠΕΡΙΓΡΑΦΗ \nΤο εκπαιδευτικό πρόγραμμα πληροί τις απαιτήσεις για την εκπαίδευση Εσωτερικών Επιθεωρητών\, σύμφωνα με τα πρότυπα ISO 9001\, ISO 17021 και ISO 19011\, καθώς και τις εκπαιδευτικές απαιτήσεις για τη διενέργεια Εσωτερικών Επιθεωρήσεων ενός Συστήματος Διαχείρισης Ποιότητας\, σύμφωνα με τις απαιτήσεις των προτύπων ISO 9001 και ISO 19011. \nΑπευθύνεται σε: \nΣτελέχη που θέλουν να εκπαιδευτούν προκειμένου να μπορούν να διενεργούν Εσωτερικές Επιθεωρήσεις Συστημάτων Διαχείρισης Ποιότητας\, αλλά και σε όσους εμπλέκονται με οποιοδήποτε τρόπο στην εφαρμογή ή στην παρακολούθηση της εφαρμογής ενός Συστήματος Διαχείρισης Ποιότητας. \nΣτο εκπαιδευτικό πρόγραμμα αναλύονται: \n\nοι βασικές αρχές της επιθεώρησης\,\nτα βήματα μιας επιθεώρησης τρίτου μέρους\,\nο σχεδιασμός\, η προετοιμασία\, η μεθοδολογία και οι τεχνικές της επιθεώρησης\,\nοι τρόποι παρακολούθησης και τήρησης του Συστήματος Διαχείρισης Ποιότητας.\n\nΕπίσης παρουσιάζονται και αναλύονται όλες οι απαιτήσεις του προτύπου (παράγραφοι 4-10)\, αλλά και ο τρόπος διενέργειας μιας Επιθεώρησης Συστήματος Διαχείρισης Ποιότητας.\nΟλοκληρώνοντας το εκπαιδευτικό πρόγραμμα οι συμμετέχοντες θα έχουν κατανοήσει τις βασικές αρχές και έννοιες της διαχείρισης ποιότητας\, τη διεργασιοκεντρική προσέγγιση στα Συστήματος Διαχείρισης Ποιότητας (ΣΔΠ)\, τις απαιτήσεις του ISO 9001:2015\, τις βασικές αρχές και τεχνικές που διέπουν την επιθεώρηση ΣΔΠ\, τον ρόλο και τις υπευθυνότητες ενός Επιθεωρητή\, αλλά και το πώς διενεργείται σε όλες τις φάσεις της μια εσωτερική επιθεώρηση ΣΔΠ (σχεδιασμός\, εκτέλεση\, αναφορά\, καταγραφή\, παρακολούθηση\, κλείσιμο). \nΗ παρακολούθηση του συγκεκριμένου σεμιναρίου αποτελεί αναγκαία προϋπόθεση για την αναγνώριση του συμμετέχοντα ως Εσωτερικού Επιθεωρητή Συστημάτων Διαχείρισης Ποιότητας. \nΜετά την ολοκλήρωση του εκπαιδευτικού προγράμματος\, χορηγείται Πιστοποιητικό Εσωτερικού Επιθεωρητή της TÜV AUSTRIA ACADEMY. \nΔΙΑΡΚΕΙΑ \nΗ διάρκεια του εκπαιδευτικού προγράμματος είναι 16 ώρες. \nΠΟΛΙΤΙΚΗ ΑΚΥΡΩΣΗΣ \nΌλα τα εκπαιδευτικά προγράμματα πραγματοποιούνται μόνο όταν υπάρχει ο απαιτούμενος αριθμός συμμετοχών. Η TÜV AUSTRIA ACADEMY διατηρεί το δικαίωμα αναβολής\, αλλαγής των εισηγητών και του τόπου διεξαγωγής\, καθώς και ματαίωσης των εκπαιδευτικών της προγραμμάτων. \nΕπιβεβαίωση ή ακύρωση της διεξαγωγής γίνεται: \n\nΜια (1) εβδομάδα πριν την ημερομηνία έναρξης του προγράμματος (για δια ζώσης παρακολούθηση) και\nΔυο (2) ημέρες πριν την ημερομηνία έναρξης του προγράμματος (για την παρακολούθηση μέσω της ηλεκτρονικής πλατφόρμας)\n\nΜε την κατάθεση του κόστους συμμετοχής\, η Δήλωση Συμμετοχής καθίσταται δεσμευτική. \nΑκύρωση της συμμετοχής\, μπορεί να γίνει μόνο γραπτώς το αργότερο: \n\nΠέντε (5) ημέρες πριν την προγραμματισμένη ημερομηνία έναρξης του προγράμματος (για δια ζώσης παρακολούθηση) και\nΤρεις (3) ημέρες πριν την προγραμματισμένη ημερομηνία έναρξης του προγράμματος (για την παρακολούθηση μέσω της ηλεκτρονικής πλατφόρμας)\n\nΣε περίπτωση μη έγκαιρης ενημέρωσης της TÜV AUSTRIA ACADEMY για ακύρωση\, θα παρακρατείται το 40% του κόστους συμμετοχής. \n*Τα εκπαιδευτικά προγράμματα της TÜV AUSTRIA ACADEMY απαλλάσσονται από το Φ.Π.Α\, βάσει του Ν.2859/2000\, άρθρο 22 §1. \n \nΜε κάθε εγγραφή σου συμβάλεις στην κάλυψη μέρους των εξόδων θέρμανσης του Οργανισμού «Το Χαμόγελο του Παιδιού».
URL:https://tuvaustria.academy/event/esoteriki-epitheorites-systimaton-diachirisis-piotitas-iso-90012015-13-2-2-2-2-2-2/
CATEGORIES:E-learning,Διοίκησης / Ποιότητας
ATTACH;FMTTYPE=image/png:https://tuvaustria.academy/wp-content/uploads/2022/04/Management-Quality.png
END:VEVENT
END:VCALENDAR